BEGIN:VCALENDAR
VERSION:2.0
PRODID:-//Howseman Agriculture - ECPv6.15.20//NONSGML v1.0//EN
CALSCALE:GREGORIAN
METHOD:PUBLISH
X-ORIGINAL-URL:https://www.howsemanagriculture.co.uk
X-WR-CALDESC:Events for Howseman Agriculture
REFRESH-INTERVAL;VALUE=DURATION:PT1H
X-Robots-Tag:noindex
X-PUBLISHED-TTL:PT1H
BEGIN:VTIMEZONE
TZID:Europe/London
BEGIN:DAYLIGHT
TZOFFSETFROM:+0000
TZOFFSETTO:+0100
TZNAME:BST
DTSTART:20170326T010000
END:DAYLIGHT
BEGIN:STANDARD
TZOFFSETFROM:+0100
TZOFFSETTO:+0000
TZNAME:GMT
DTSTART:20171029T010000
END:STANDARD
BEGIN:DAYLIGHT
TZOFFSETFROM:+0000
TZOFFSETTO:+0100
TZNAME:BST
DTSTART:20180325T010000
END:DAYLIGHT
BEGIN:STANDARD
TZOFFSETFROM:+0100
TZOFFSETTO:+0000
TZNAME:GMT
DTSTART:20181028T010000
END:STANDARD
BEGIN:DAYLIGHT
TZOFFSETFROM:+0000
TZOFFSETTO:+0100
TZNAME:BST
DTSTART:20190331T010000
END:DAYLIGHT
BEGIN:STANDARD
TZOFFSETFROM:+0100
TZOFFSETTO:+0000
TZNAME:GMT
DTSTART:20191027T010000
END:STANDARD
BEGIN:DAYLIGHT
TZOFFSETFROM:+0000
TZOFFSETTO:+0100
TZNAME:BST
DTSTART:20200329T010000
END:DAYLIGHT
BEGIN:STANDARD
TZOFFSETFROM:+0100
TZOFFSETTO:+0000
TZNAME:GMT
DTSTART:20201025T010000
END:STANDARD
END:VTIMEZONE
BEGIN:VEVENT
DTSTART;VALUE=DATE:20190108
DTEND;VALUE=DATE:20190110
DTSTAMP:20260424T163139
CREATED:20181105T165347Z
LAST-MODIFIED:20181105T170449Z
UID:165-1546905600-1547078399@www.howsemanagriculture.co.uk
SUMMARY:LAMMA '19
DESCRIPTION:Come and see Howseman Agriculture Ltd. at LAMMA ’19 on the 8th and 9th of January at the Birmingham NEC.\nWe will be at Stand 8-9.102 in Hall 8-9 \nLamma ’19 is the UK’s largest agricultural and machinery show
URL:https://www.howsemanagriculture.co.uk/event/lamma-19/
LOCATION:NEC Birmingham\, National Exhibition Centre\, Birmingham\, Birmingham\, B40 1NT\, United Kingdom
CATEGORIES:exhibitions & conferences
END:VEVENT
BEGIN:VEVENT
DTSTART;VALUE=DATE:20181128
DTEND;VALUE=DATE:20181130
DTSTAMP:20260424T163139
CREATED:20181105T162018Z
LAST-MODIFIED:20181105T170618Z
UID:157-1543363200-1543535999@www.howsemanagriculture.co.uk
SUMMARY:The CropTec Show 2018
DESCRIPTION:Come and say hi to Howseman Agriculture Ltd. at The CropTec Show 2018 on the 28th and 29th of November.\nWe will be on stand 35\, hall 2. \nBook your tickets now.
URL:https://www.howsemanagriculture.co.uk/event/the-croptec-show-2018/
LOCATION:Peterborough Arena\, East of England Showground\, Peterborough\, Lincolnshire\, PE2 6XE\, United Kingdom
CATEGORIES:exhibitions & conferences
ATTACH;FMTTYPE=image/png:https://howsemanagriculture.co.uk/wp-content/uploads/sites/17/2018/11/Stand-graphic-Howseman-Ag.png
END:VEVENT
END:VCALENDAR